BEGIN:VCALENDAR
VERSION:2.0
METHOD:PUBLISH
PRODID:-//Event-List//NONSGML Event-List 4.6.2//DE
X-WR-TIMEZONE:Europe/Berlin
CALSCALE:GREGORIAN
BEGIN:VTIMEZONE
TZID:Europe/Berlin
BEGIN:DAYLIGHT
TZOFFSETFROM:+0100
TZOFFSETTO:+0200
DTSTART:19810329T020000
RRULE:FREQ=YEARLY;BYMONTH=3;BYDAY=-1SU
TZNAME:CEST
END:DAYLIGHT
BEGIN:STANDARD
TZOFFSETFROM:+0200
TZOFFSETTO:+0100
DTSTART:19961027T030000
RRULE:FREQ=YEARLY;BYMONTH=10;BYDAY=-1SU
TZNAME:CET
END:STANDARD
END:VTIMEZONE
BEGIN:VEVENT
DTSTAMP:20260422T191910
DTSTART;VALUE=DATE:20160312
DTEND;VALUE=DATE:20160312
UID:98@s523181454.online.de/ical
CLASS:PUBLIC
SUMMARY:AM Orientierungsfahrt "30. Ori Rund um den Indemann" 
DESCRIPTION:Der 2. Lauf zur Automobilmeisterschaft des Deutschen NAVC\nErgebnisliste 
CONTACT:MSC Huchem-Stammeln \, Willy Willms \, Kinzweiler Str. 60\, \, 52249  Eschweiler
LOCATION:Haus Lersch \, Zum Indemann 1 \, 52459 Inden
CATEGORIES:Orientierungsfahrt
END:VEVENT
END:VCALENDAR