BEGIN:VCALENDAR
VERSION:2.0
METHOD:PUBLISH
PRODID:-//Event-List//NONSGML Event-List 4.6.2//DE
X-WR-TIMEZONE:Europe/Berlin
CALSCALE:GREGORIAN
BEGIN:VTIMEZONE
TZID:Europe/Berlin
BEGIN:DAYLIGHT
TZOFFSETFROM:+0100
TZOFFSETTO:+0200
DTSTART:19810329T020000
RRULE:FREQ=YEARLY;BYMONTH=3;BYDAY=-1SU
TZNAME:CEST
END:DAYLIGHT
BEGIN:STANDARD
TZOFFSETFROM:+0200
TZOFFSETTO:+0100
DTSTART:19961027T030000
RRULE:FREQ=YEARLY;BYMONTH=10;BYDAY=-1SU
TZNAME:CET
END:STANDARD
END:VTIMEZONE
BEGIN:VEVENT
DTSTAMP:20260423T013648
DTSTART;VALUE=DATE:20151004
DTEND;VALUE=DATE:20151004
UID:84@s523181454.online.de/ical
CLASS:PUBLIC
SUMMARY:RSM Rundstreckenrennen Unstrutring
DESCRIPTION:Der 7. Lauf zur Deutschen Amateur Rundstreckenmeisterschaft des
  NAVC\nErgebnisliste 
CONTACT:MSC Westpfalz e.V.\, Hermann Klingel\, Flurstr.17\, \, 66909  Hüffler 	\, 06384/7842
LOCATION:Unstrutring Flugplatz Obermehler\, Otto - Lilienthal - Strasse 1 \, 99996  Obermehler 
CATEGORIES:Rundstreckenrennen
END:VEVENT
END:VCALENDAR