BEGIN:VCALENDAR
VERSION:2.0
METHOD:PUBLISH
PRODID:-//Event-List//NONSGML Event-List 4.6.2//DE
X-WR-TIMEZONE:Europe/Berlin
CALSCALE:GREGORIAN
BEGIN:VTIMEZONE
TZID:Europe/Berlin
BEGIN:DAYLIGHT
TZOFFSETFROM:+0100
TZOFFSETTO:+0200
DTSTART:19810329T020000
RRULE:FREQ=YEARLY;BYMONTH=3;BYDAY=-1SU
TZNAME:CEST
END:DAYLIGHT
BEGIN:STANDARD
TZOFFSETFROM:+0200
TZOFFSETTO:+0100
DTSTART:19961027T030000
RRULE:FREQ=YEARLY;BYMONTH=10;BYDAY=-1SU
TZNAME:CET
END:STANDARD
END:VTIMEZONE
BEGIN:VEVENT
DTSTAMP:20260423T013648
DTSTART;VALUE=DATE:20150906
DTEND;VALUE=DATE:20150906
UID:68@s523181454.online.de/ical
CLASS:PUBLIC
SUMMARY:RSM Rundstreckenrennen Driving Center Groß Dölln
DESCRIPTION:Der 5. Lauf zur Deutschen Amateur Rundstreckenmeisterschaft des Deutschen
  NAVC\nErgebnisliste 
CONTACT:NAVC Sportabteilung\, Joseph Limmer\, Johannesbrunnerstr. 6\, 84175 Gerzen\, 08744/8678\, Fax 08744/9679886
LOCATION:Driving Center Groß Dölln\, Zum Flugplatz\, 17268  Templin OT Groß Dölln
CATEGORIES:Rundstreckenrennen
END:VEVENT
END:VCALENDAR