BEGIN:VCALENDAR
VERSION:2.0
METHOD:PUBLISH
PRODID:-//Event-List//NONSGML Event-List 4.6.2//DE
X-WR-TIMEZONE:Europe/Berlin
CALSCALE:GREGORIAN
BEGIN:VTIMEZONE
TZID:Europe/Berlin
BEGIN:DAYLIGHT
TZOFFSETFROM:+0100
TZOFFSETTO:+0200
DTSTART:19810329T020000
RRULE:FREQ=YEARLY;BYMONTH=3;BYDAY=-1SU
TZNAME:CEST
END:DAYLIGHT
BEGIN:STANDARD
TZOFFSETFROM:+0200
TZOFFSETTO:+0100
DTSTART:19961027T030000
RRULE:FREQ=YEARLY;BYMONTH=10;BYDAY=-1SU
TZNAME:CET
END:STANDARD
END:VTIMEZONE
BEGIN:VEVENT
DTSTAMP:20260419T230921
DTSTART;VALUE=DATE:20201106
DTEND;VALUE=DATE:20201106
UID:531@s523181454.online.de/ical
CLASS:PUBLIC
SUMMARY:RM 39. Mossandl Rallye
DESCRIPTION:Die 39. Mossandl Rallye, der finale Lauf zur Deutschen Amateur
  Rallyemeisterschaft des  
CONTACT:MSC Mamming e.V. 	\, Roland Kroiß \, Deggendorferstr. 37  \, 94437 Mamming 	\, 09955/1625\, Fax 09955/904220
LOCATION:Mossandl Kieswerk\, Werkstraße 9\, \, 94437  Mamming
CATEGORIES:Rallye
END:VEVENT
END:VCALENDAR