BEGIN:VCALENDAR
VERSION:2.0
METHOD:PUBLISH
PRODID:-//Event-List//NONSGML Event-List 4.6.2//DE
X-WR-TIMEZONE:Europe/Berlin
CALSCALE:GREGORIAN
BEGIN:VTIMEZONE
TZID:Europe/Berlin
BEGIN:DAYLIGHT
TZOFFSETFROM:+0100
TZOFFSETTO:+0200
DTSTART:19810329T020000
RRULE:FREQ=YEARLY;BYMONTH=3;BYDAY=-1SU
TZNAME:CEST
END:DAYLIGHT
BEGIN:STANDARD
TZOFFSETFROM:+0200
TZOFFSETTO:+0100
DTSTART:19961027T030000
RRULE:FREQ=YEARLY;BYMONTH=10;BYDAY=-1SU
TZNAME:CET
END:STANDARD
END:VTIMEZONE
BEGIN:VEVENT
DTSTAMP:20260420T004957
DTSTART;VALUE=DATE:20201018
DTEND;VALUE=DATE:20201018
UID:530@s523181454.online.de/ical
CLASS:PUBLIC
SUMMARY:Kartrennen Wackersdorf Nachtrennen
DESCRIPTION:Der 5. Lauf zur KTBW
CONTACT:NRG Landshut \, Peter Meier \, von-Frauenhofenstr. 7\, \, 84169 Altfraunhofen\, 08705/1567 	\, Fax 08705/1567
LOCATION:Kartbahn Raceland \, Industriestraße 8 \, 92442 Wackersdorf
CATEGORIES:Kartrennen
END:VEVENT
END:VCALENDAR