BEGIN:VCALENDAR
VERSION:2.0
METHOD:PUBLISH
PRODID:-//Event-List//NONSGML Event-List 4.6.2//DE
X-WR-TIMEZONE:Europe/Berlin
CALSCALE:GREGORIAN
BEGIN:VTIMEZONE
TZID:Europe/Berlin
BEGIN:DAYLIGHT
TZOFFSETFROM:+0100
TZOFFSETTO:+0200
DTSTART:19810329T020000
RRULE:FREQ=YEARLY;BYMONTH=3;BYDAY=-1SU
TZNAME:CEST
END:DAYLIGHT
BEGIN:STANDARD
TZOFFSETFROM:+0200
TZOFFSETTO:+0100
DTSTART:19961027T030000
RRULE:FREQ=YEARLY;BYMONTH=10;BYDAY=-1SU
TZNAME:CET
END:STANDARD
END:VTIMEZONE
BEGIN:VEVENT
DTSTAMP:20260420T004957
DTSTART;VALUE=DATE:20201003
DTEND;VALUE=DATE:20201003
UID:529@s523181454.online.de/ical
CLASS:PUBLIC
SUMMARY:RSM Rundstreckenrennen Most
DESCRIPTION:Der 7. Lauf zur Deutschen Amateur Rundstreckenmeisterschaft des Deutschen
  NAVC
CONTACT:NAVC Sportabteilung\, Joseph Limmer\, Johannesbrunnerstr. 6\, 84175 Gerzen\, 08744/8678\, Fax 08744/9679886
LOCATION:Autodrom Most\, Tvrzova 5\, 43401  Most
CATEGORIES:Rundstreckenrennen
END:VEVENT
END:VCALENDAR