BEGIN:VCALENDAR
VERSION:2.0
METHOD:PUBLISH
PRODID:-//Event-List//NONSGML Event-List 4.6.2//DE
X-WR-TIMEZONE:Europe/Berlin
CALSCALE:GREGORIAN
BEGIN:VTIMEZONE
TZID:Europe/Berlin
BEGIN:DAYLIGHT
TZOFFSETFROM:+0100
TZOFFSETTO:+0200
DTSTART:19810329T020000
RRULE:FREQ=YEARLY;BYMONTH=3;BYDAY=-1SU
TZNAME:CEST
END:DAYLIGHT
BEGIN:STANDARD
TZOFFSETFROM:+0200
TZOFFSETTO:+0100
DTSTART:19961027T030000
RRULE:FREQ=YEARLY;BYMONTH=10;BYDAY=-1SU
TZNAME:CET
END:STANDARD
END:VTIMEZONE
BEGIN:VEVENT
DTSTAMP:20260421T104740
DTSTART;VALUE=DATE:20200925
DTEND;VALUE=DATE:20200926
UID:524@s523181454.online.de/ical
CLASS:PUBLIC
SUMMARY:RM 4. Rallye Altmühlfranken 
DESCRIPTION:Die 4. Rallye Altmühlfranken, der 4. Lauf zur Rallyemeisterschaft des
  NAVC\n
CONTACT:ASC Gunzenhausen e.V.  \, Schäfgasse 3\, 91747 Westheim / Ot Ostheim\, 0172-9566018
LOCATION:91710  Gunzenhausen
CATEGORIES:Rallye
END:VEVENT
END:VCALENDAR