BEGIN:VCALENDAR
VERSION:2.0
METHOD:PUBLISH
PRODID:-//Event-List//NONSGML Event-List 4.6.2//DE
X-WR-TIMEZONE:Europe/Berlin
CALSCALE:GREGORIAN
BEGIN:VTIMEZONE
TZID:Europe/Berlin
BEGIN:DAYLIGHT
TZOFFSETFROM:+0100
TZOFFSETTO:+0200
DTSTART:19810329T020000
RRULE:FREQ=YEARLY;BYMONTH=3;BYDAY=-1SU
TZNAME:CEST
END:DAYLIGHT
BEGIN:STANDARD
TZOFFSETFROM:+0200
TZOFFSETTO:+0100
DTSTART:19961027T030000
RRULE:FREQ=YEARLY;BYMONTH=10;BYDAY=-1SU
TZNAME:CET
END:STANDARD
END:VTIMEZONE
BEGIN:VEVENT
DTSTAMP:20260421T122654
DTSTART;VALUE=DATE:20200913
DTEND;VALUE=DATE:20200913
UID:515@s523181454.online.de/ical
CLASS:PUBLIC
SUMMARY:Stoppelfeldrennen
DESCRIPTION:Stoppelfeldrennen
CONTACT:MC Elm Wilfried Burfeindt\, Wilfried Burfeindt\, Rüsterhof 10\,  \, 27432 Bremervörde-Elm\, 04761/70187
LOCATION:Elmerheide Gründorf 27432 Bremervörde\, 27432  Bremervörde
CATEGORIES:Auto-Cross
END:VEVENT
END:VCALENDAR