BEGIN:VCALENDAR
VERSION:2.0
METHOD:PUBLISH
PRODID:-//Event-List//NONSGML Event-List 4.6.2//DE
X-WR-TIMEZONE:Europe/Berlin
CALSCALE:GREGORIAN
BEGIN:VTIMEZONE
TZID:Europe/Berlin
BEGIN:DAYLIGHT
TZOFFSETFROM:+0100
TZOFFSETTO:+0200
DTSTART:19810329T020000
RRULE:FREQ=YEARLY;BYMONTH=3;BYDAY=-1SU
TZNAME:CEST
END:DAYLIGHT
BEGIN:STANDARD
TZOFFSETFROM:+0200
TZOFFSETTO:+0100
DTSTART:19961027T030000
RRULE:FREQ=YEARLY;BYMONTH=10;BYDAY=-1SU
TZNAME:CET
END:STANDARD
END:VTIMEZONE
BEGIN:VEVENT
DTSTAMP:20260421T183547
DTSTART;VALUE=DATE:20200830
DTEND;VALUE=DATE:20200830
UID:509@s523181454.online.de/ical
CLASS:PUBLIC
SUMMARY:Cross-Slalom
DESCRIPTION:Cross-Slalom
CONTACT:RHT Rohrenstadt e.V\, 	\, Stephan Kerschensteiner\, St.-Colomann-Str. 15\, 92348  Berg  	\, 0170-8809948
LOCATION:92348 Berg
CATEGORIES:Auto-Cross
END:VEVENT
END:VCALENDAR