BEGIN:VCALENDAR
VERSION:2.0
METHOD:PUBLISH
PRODID:-//Event-List//NONSGML Event-List 4.6.2//DE
X-WR-TIMEZONE:Europe/Berlin
CALSCALE:GREGORIAN
BEGIN:VTIMEZONE
TZID:Europe/Berlin
BEGIN:DAYLIGHT
TZOFFSETFROM:+0100
TZOFFSETTO:+0200
DTSTART:19810329T020000
RRULE:FREQ=YEARLY;BYMONTH=3;BYDAY=-1SU
TZNAME:CEST
END:DAYLIGHT
BEGIN:STANDARD
TZOFFSETFROM:+0200
TZOFFSETTO:+0100
DTSTART:19961027T030000
RRULE:FREQ=YEARLY;BYMONTH=10;BYDAY=-1SU
TZNAME:CET
END:STANDARD
END:VTIMEZONE
BEGIN:VEVENT
DTSTAMP:20260421T183547
DTSTART;VALUE=DATE:20200829
DTEND;VALUE=DATE:20200829
UID:506@s523181454.online.de/ical
CLASS:PUBLIC
SUMMARY:RSM Rundstreckenrennen Nürburgring Müllenbachschleife
DESCRIPTION:Der 5. Lauf zur Deutschen Amateur Rundstreckenmeisterschaft des NAVC
CONTACT:MSC Westpfalz e.V.\, Hermann Klingel\, Flurstr.17\, \, 66909  Hüffler 	\, 06384/7842
LOCATION:Nürburgring\, Nürburgring Boulevard 1\, \, 53520  Nürburg
CATEGORIES:Rundstreckenrennen
END:VEVENT
END:VCALENDAR