BEGIN:VCALENDAR
VERSION:2.0
METHOD:PUBLISH
PRODID:-//Event-List//NONSGML Event-List 4.6.2//DE
X-WR-TIMEZONE:Europe/Berlin
CALSCALE:GREGORIAN
BEGIN:VTIMEZONE
TZID:Europe/Berlin
BEGIN:DAYLIGHT
TZOFFSETFROM:+0100
TZOFFSETTO:+0200
DTSTART:19810329T020000
RRULE:FREQ=YEARLY;BYMONTH=3;BYDAY=-1SU
TZNAME:CEST
END:DAYLIGHT
BEGIN:STANDARD
TZOFFSETFROM:+0200
TZOFFSETTO:+0100
DTSTART:19961027T030000
RRULE:FREQ=YEARLY;BYMONTH=10;BYDAY=-1SU
TZNAME:CET
END:STANDARD
END:VTIMEZONE
BEGIN:VEVENT
DTSTAMP:20260425T143420
DTSTART;VALUE=DATE:20200628
DTEND;VALUE=DATE:20200628
UID:476@s523181454.online.de/ical
CLASS:PUBLIC
SUMMARY:Stoppelfeldrennen
DESCRIPTION:Stoppelfeldrennen
CONTACT:MCBJ Hellingst\, Nadine Nanninga\, Dorfstr. 12\, 27729 Holste-Hellingst
LOCATION:Birkenring in Hoope\, Wulsbütteler Str.\, 27628  Wulsbüttel
CATEGORIES:Auto-Cross,Auto-Cross
END:VEVENT
END:VCALENDAR