BEGIN:VCALENDAR
VERSION:2.0
METHOD:PUBLISH
PRODID:-//Event-List//NONSGML Event-List 4.6.2//DE
X-WR-TIMEZONE:Europe/Berlin
CALSCALE:GREGORIAN
BEGIN:VTIMEZONE
TZID:Europe/Berlin
BEGIN:DAYLIGHT
TZOFFSETFROM:+0100
TZOFFSETTO:+0200
DTSTART:19810329T020000
RRULE:FREQ=YEARLY;BYMONTH=3;BYDAY=-1SU
TZNAME:CEST
END:DAYLIGHT
BEGIN:STANDARD
TZOFFSETFROM:+0200
TZOFFSETTO:+0100
DTSTART:19961027T030000
RRULE:FREQ=YEARLY;BYMONTH=10;BYDAY=-1SU
TZNAME:CET
END:STANDARD
END:VTIMEZONE
BEGIN:VEVENT
DTSTAMP:20260421T122654
DTSTART;VALUE=DATE:20201009
DTEND;VALUE=DATE:20201010
UID:466@s523181454.online.de/ical
CLASS:PUBLIC
SUMMARY:RM Rallye Hombachtal
DESCRIPTION:Die 10. Hombachtal-Rallye, der 5. Lauf zur RM 2020.
CONTACT:Rallye-Gemeinschaft Gas im NAVC\, Römerstr. 7\, 56357  Geisig
LOCATION:Heymann Gmbh\, Römerstraße 12\, 56357 Geisig
CATEGORIES:Rallye
END:VEVENT
END:VCALENDAR