BEGIN:VCALENDAR
VERSION:2.0
METHOD:PUBLISH
PRODID:-//Event-List//NONSGML Event-List 4.6.2//DE
X-WR-TIMEZONE:Europe/Berlin
CALSCALE:GREGORIAN
BEGIN:VTIMEZONE
TZID:Europe/Berlin
BEGIN:DAYLIGHT
TZOFFSETFROM:+0100
TZOFFSETTO:+0200
DTSTART:19810329T020000
RRULE:FREQ=YEARLY;BYMONTH=3;BYDAY=-1SU
TZNAME:CEST
END:DAYLIGHT
BEGIN:STANDARD
TZOFFSETFROM:+0200
TZOFFSETTO:+0100
DTSTART:19961027T030000
RRULE:FREQ=YEARLY;BYMONTH=10;BYDAY=-1SU
TZNAME:CET
END:STANDARD
END:VTIMEZONE
BEGIN:VEVENT
DTSTAMP:20260423T140556
DTSTART;VALUE=DATE:20200524
DTEND;VALUE=DATE:20200524
UID:461@s523181454.online.de/ical
CLASS:PUBLIC
SUMMARY:Geschicklichkeitsturnier
DESCRIPTION:Geschicklichkeitsturnier
CONTACT:SSC Eysölden e.V. 	\, Armin Dinkelmeier \, Eysölden J 27\,\, 91177  Thalmässing  	\, 09173/615 \, Fax 09173/9133
CATEGORIES:Turnier
END:VEVENT
END:VCALENDAR