BEGIN:VCALENDAR
VERSION:2.0
METHOD:PUBLISH
PRODID:-//Event-List//NONSGML Event-List 4.6.2//DE
X-WR-TIMEZONE:Europe/Berlin
CALSCALE:GREGORIAN
BEGIN:VTIMEZONE
TZID:Europe/Berlin
BEGIN:DAYLIGHT
TZOFFSETFROM:+0100
TZOFFSETTO:+0200
DTSTART:19810329T020000
RRULE:FREQ=YEARLY;BYMONTH=3;BYDAY=-1SU
TZNAME:CEST
END:DAYLIGHT
BEGIN:STANDARD
TZOFFSETFROM:+0200
TZOFFSETTO:+0100
DTSTART:19961027T030000
RRULE:FREQ=YEARLY;BYMONTH=10;BYDAY=-1SU
TZNAME:CET
END:STANDARD
END:VTIMEZONE
BEGIN:VEVENT
DTSTAMP:20260421T104743
DTSTART;VALUE=DATE:20200426
DTEND;VALUE=DATE:20200426
UID:449@s523181454.online.de/ical
CLASS:PUBLIC
SUMMARY:SM Automobilslalom
DESCRIPTION:Der 2. Lauf zur Deutschen Amateur Slalommeisterschaft des NAVC\n
CONTACT:ASC Ansbach e.V.  \, Zochastr. 23\, 91522 Ansbach \, 0981/86452
LOCATION:Flugplatz Rothenburg ob der Tauber\, Flugplatz am Bauerngraben \, 91616  Neusitz
CATEGORIES:Slalom
END:VEVENT
END:VCALENDAR