BEGIN:VCALENDAR
VERSION:2.0
METHOD:PUBLISH
PRODID:-//Event-List//NONSGML Event-List 4.6.2//DE
X-WR-TIMEZONE:Europe/Berlin
CALSCALE:GREGORIAN
BEGIN:VTIMEZONE
TZID:Europe/Berlin
BEGIN:DAYLIGHT
TZOFFSETFROM:+0100
TZOFFSETTO:+0200
DTSTART:19810329T020000
RRULE:FREQ=YEARLY;BYMONTH=3;BYDAY=-1SU
TZNAME:CEST
END:DAYLIGHT
BEGIN:STANDARD
TZOFFSETFROM:+0200
TZOFFSETTO:+0100
DTSTART:19961027T030000
RRULE:FREQ=YEARLY;BYMONTH=10;BYDAY=-1SU
TZNAME:CET
END:STANDARD
END:VTIMEZONE
BEGIN:VEVENT
DTSTAMP:20260421T104749
DTSTART;VALUE=DATE:20200404
DTEND;VALUE=DATE:20200404
UID:443@s523181454.online.de/ical
CLASS:PUBLIC
SUMMARY:Jugendcrosskartslalom
DESCRIPTION:Jugendcrosskartslalom\n\nTermin wurde verschoben, neuer Termin noch nicht
  bekannt.
CONTACT:Fahrendorfer AC\, Sven Börger \, Schwarze Flage 56 \, 27442 Gnarrenburg-Fahrendorf
LOCATION:K 101 \, 27446 Ober Ochtenhausen
CATEGORIES:Auto-Cross
END:VEVENT
END:VCALENDAR