BEGIN:VCALENDAR
VERSION:2.0
METHOD:PUBLISH
PRODID:-//Event-List//NONSGML Event-List 4.6.2//DE
X-WR-TIMEZONE:Europe/Berlin
CALSCALE:GREGORIAN
BEGIN:VTIMEZONE
TZID:Europe/Berlin
BEGIN:DAYLIGHT
TZOFFSETFROM:+0100
TZOFFSETTO:+0200
DTSTART:19810329T020000
RRULE:FREQ=YEARLY;BYMONTH=3;BYDAY=-1SU
TZNAME:CEST
END:DAYLIGHT
BEGIN:STANDARD
TZOFFSETFROM:+0200
TZOFFSETTO:+0100
DTSTART:19961027T030000
RRULE:FREQ=YEARLY;BYMONTH=10;BYDAY=-1SU
TZNAME:CET
END:STANDARD
END:VTIMEZONE
BEGIN:VEVENT
DTSTAMP:20260421T135212
DTSTART;VALUE=DATE:20191103
DTEND;VALUE=DATE:20191103
UID:436@s523181454.online.de/ical
CLASS:PUBLIC
SUMMARY:RSM Rundstreckenrennen Hockenheimring
DESCRIPTION:Das Finale zur Deutschen Amateur Rundstreckenmeisterschaft des Deutschen
  NAVC\n
CONTACT:NAVC Sportabteilung\, Joseph Limmer\, Johannesbrunnerstr. 6\, 84175 Gerzen\, 08744/8678\, Fax 08744/9679886
LOCATION:Hockenheimring\, 68766 Hockenheim
CATEGORIES:Rundstreckenrennen
END:VEVENT
END:VCALENDAR