BEGIN:VCALENDAR
VERSION:2.0
METHOD:PUBLISH
PRODID:-//Event-List//NONSGML Event-List 4.6.2//DE
X-WR-TIMEZONE:Europe/Berlin
CALSCALE:GREGORIAN
BEGIN:VTIMEZONE
TZID:Europe/Berlin
BEGIN:DAYLIGHT
TZOFFSETFROM:+0100
TZOFFSETTO:+0200
DTSTART:19810329T020000
RRULE:FREQ=YEARLY;BYMONTH=3;BYDAY=-1SU
TZNAME:CEST
END:DAYLIGHT
BEGIN:STANDARD
TZOFFSETFROM:+0200
TZOFFSETTO:+0100
DTSTART:19961027T030000
RRULE:FREQ=YEARLY;BYMONTH=10;BYDAY=-1SU
TZNAME:CET
END:STANDARD
END:VTIMEZONE
BEGIN:VEVENT
DTSTAMP:20260423T144340
DTSTART;VALUE=DATE:20190922
DTEND;VALUE=DATE:20190922
UID:428@s523181454.online.de/ical
CLASS:PUBLIC
SUMMARY:Oldtimerfahrt
DESCRIPTION:Oldtimerfahrt
CONTACT:RG Düsseldorf e.V.\, Gnesener Str. 30\, 40599 Düsseldorf\, 0211/6024921
CATEGORIES:Oldtimer,Oldtimer
END:VEVENT
END:VCALENDAR