BEGIN:VCALENDAR
VERSION:2.0
METHOD:PUBLISH
PRODID:-//Event-List//NONSGML Event-List 4.6.2//DE
X-WR-TIMEZONE:Europe/Berlin
CALSCALE:GREGORIAN
BEGIN:VTIMEZONE
TZID:Europe/Berlin
BEGIN:DAYLIGHT
TZOFFSETFROM:+0100
TZOFFSETTO:+0200
DTSTART:19810329T020000
RRULE:FREQ=YEARLY;BYMONTH=3;BYDAY=-1SU
TZNAME:CEST
END:DAYLIGHT
BEGIN:STANDARD
TZOFFSETFROM:+0200
TZOFFSETTO:+0100
DTSTART:19961027T030000
RRULE:FREQ=YEARLY;BYMONTH=10;BYDAY=-1SU
TZNAME:CET
END:STANDARD
END:VTIMEZONE
BEGIN:VEVENT
DTSTAMP:20260421T133311
DTSTART;VALUE=DATE:20190712
DTEND;VALUE=DATE:20190713
UID:409@s523181454.online.de/ical
CLASS:PUBLIC
SUMMARY:RM 2. Hochtaunus Rallye
DESCRIPTION:Die 2. Hochtaunus Rallye, der 4. Lauf zur Deutschen Amateur
  Rallyemeisterschaft des NAVC
CONTACT:MSG Feldberg e.V.\, Altes Radhaus Riedelbach\, Langster. 31 \, 61276 Weilrod 	
LOCATION:61276  Weilrod
CATEGORIES:Rallye
END:VEVENT
END:VCALENDAR