BEGIN:VCALENDAR
VERSION:2.0
METHOD:PUBLISH
PRODID:-//Event-List//NONSGML Event-List 4.6.2//DE
X-WR-TIMEZONE:Europe/Berlin
CALSCALE:GREGORIAN
BEGIN:VTIMEZONE
TZID:Europe/Berlin
BEGIN:DAYLIGHT
TZOFFSETFROM:+0100
TZOFFSETTO:+0200
DTSTART:19810329T020000
RRULE:FREQ=YEARLY;BYMONTH=3;BYDAY=-1SU
TZNAME:CEST
END:DAYLIGHT
BEGIN:STANDARD
TZOFFSETFROM:+0200
TZOFFSETTO:+0100
DTSTART:19961027T030000
RRULE:FREQ=YEARLY;BYMONTH=10;BYDAY=-1SU
TZNAME:CET
END:STANDARD
END:VTIMEZONE
BEGIN:VEVENT
DTSTAMP:20260421T122653
DTSTART;VALUE=DATE:20190706
DTEND;VALUE=DATE:20190706
UID:406@s523181454.online.de/ical
CLASS:PUBLIC
SUMMARY:Auto-Speedway
DESCRIPTION:Das traditionelle Auto-Speedway im Dingolfinger Isar-Wald-Stadion
CONTACT:ASC Dingolfing e.V. 	\, Gerhard Kettner \, Sixtstr. 5\, \, 84130  Dingolfing \, 08731/73916
LOCATION:Isar-Wald-Stadion\, Stadionstraße 50\, 84130 Dingolfing
CATEGORIES:Auto-Cross,Auto-Cross
END:VEVENT
END:VCALENDAR