BEGIN:VCALENDAR
VERSION:2.0
METHOD:PUBLISH
PRODID:-//Event-List//NONSGML Event-List 4.6.2//DE
X-WR-TIMEZONE:Europe/Berlin
CALSCALE:GREGORIAN
BEGIN:VTIMEZONE
TZID:Europe/Berlin
BEGIN:DAYLIGHT
TZOFFSETFROM:+0100
TZOFFSETTO:+0200
DTSTART:19810329T020000
RRULE:FREQ=YEARLY;BYMONTH=3;BYDAY=-1SU
TZNAME:CEST
END:DAYLIGHT
BEGIN:STANDARD
TZOFFSETFROM:+0200
TZOFFSETTO:+0100
DTSTART:19961027T030000
RRULE:FREQ=YEARLY;BYMONTH=10;BYDAY=-1SU
TZNAME:CET
END:STANDARD
END:VTIMEZONE
BEGIN:VEVENT
DTSTAMP:20260421T122654
DTSTART;VALUE=DATE:20190901
DTEND;VALUE=DATE:20190901
UID:405@s523181454.online.de/ical
CLASS:PUBLIC
SUMMARY:BM Bergrennen
DESCRIPTION:Der 10. Lauf zur Deutschen Amateur Bergmeisterschaft des NAVC.
CONTACT:MSC Idarwald e.V. 	\, Michael Kaiser 	\, Marktstr. 20\, \, 55487  Sohren\, 06543/1313 \, Fax 06543/3594
LOCATION:L199\, 56858 Zell/Merl - Grenderich
CATEGORIES:Bergslalom
END:VEVENT
END:VCALENDAR