BEGIN:VCALENDAR
VERSION:2.0
METHOD:PUBLISH
PRODID:-//Event-List//NONSGML Event-List 4.6.2//DE
X-WR-TIMEZONE:Europe/Berlin
CALSCALE:GREGORIAN
BEGIN:VTIMEZONE
TZID:Europe/Berlin
BEGIN:DAYLIGHT
TZOFFSETFROM:+0100
TZOFFSETTO:+0200
DTSTART:19810329T020000
RRULE:FREQ=YEARLY;BYMONTH=3;BYDAY=-1SU
TZNAME:CEST
END:DAYLIGHT
BEGIN:STANDARD
TZOFFSETFROM:+0200
TZOFFSETTO:+0100
DTSTART:19961027T030000
RRULE:FREQ=YEARLY;BYMONTH=10;BYDAY=-1SU
TZNAME:CET
END:STANDARD
END:VTIMEZONE
BEGIN:VEVENT
DTSTAMP:20260425T143419
DTSTART;VALUE=DATE:20190810
DTEND;VALUE=DATE:20190810
UID:393@s523181454.online.de/ical
CLASS:PUBLIC
SUMMARY:BM Bergprüfung
DESCRIPTION:Der 7. Lauf zur Deutschen Amateur Bergmeisterschaft des NAVC\n 
CONTACT:Dorfgemeinschaft Dohrer Bolzplatz e.V.\, Funkhilfe Motorsport Dohr\, Mittelstraße 3\,\, 56812 Dohr\, 0170/8323065
LOCATION:K 25\, 56818 Klotten
CATEGORIES:Bergslalom
END:VEVENT
END:VCALENDAR