BEGIN:VCALENDAR
VERSION:2.0
METHOD:PUBLISH
PRODID:-//Event-List//NONSGML Event-List 4.6.2//DE
X-WR-TIMEZONE:Europe/Berlin
CALSCALE:GREGORIAN
BEGIN:VTIMEZONE
TZID:Europe/Berlin
BEGIN:DAYLIGHT
TZOFFSETFROM:+0100
TZOFFSETTO:+0200
DTSTART:19810329T020000
RRULE:FREQ=YEARLY;BYMONTH=3;BYDAY=-1SU
TZNAME:CEST
END:DAYLIGHT
BEGIN:STANDARD
TZOFFSETFROM:+0200
TZOFFSETTO:+0100
DTSTART:19961027T030000
RRULE:FREQ=YEARLY;BYMONTH=10;BYDAY=-1SU
TZNAME:CET
END:STANDARD
END:VTIMEZONE
BEGIN:VEVENT
DTSTAMP:20260421T135212
DTSTART;VALUE=DATE:20190810
DTEND;VALUE=DATE:20190810
UID:392@s523181454.online.de/ical
CLASS:PUBLIC
SUMMARY:Oldtimerfahrt
DESCRIPTION:Das Int. Gold-Race Indeland für Oldtimer
CONTACT:MSC Huchem-Stammeln e.V. 	\, Willy Willms \, Kinzweiler Str. 60\, \, 52249  Eschweiler 	\, 02403/4176
LOCATION:Zitadelle Jülich\, 52428  Jülich
CATEGORIES:Oldtimer
END:VEVENT
END:VCALENDAR