BEGIN:VCALENDAR
VERSION:2.0
METHOD:PUBLISH
PRODID:-//Event-List//NONSGML Event-List 4.6.2//DE
X-WR-TIMEZONE:Europe/Berlin
CALSCALE:GREGORIAN
BEGIN:VTIMEZONE
TZID:Europe/Berlin
BEGIN:DAYLIGHT
TZOFFSETFROM:+0100
TZOFFSETTO:+0200
DTSTART:19810329T020000
RRULE:FREQ=YEARLY;BYMONTH=3;BYDAY=-1SU
TZNAME:CEST
END:DAYLIGHT
BEGIN:STANDARD
TZOFFSETFROM:+0200
TZOFFSETTO:+0100
DTSTART:19961027T030000
RRULE:FREQ=YEARLY;BYMONTH=10;BYDAY=-1SU
TZNAME:CET
END:STANDARD
END:VTIMEZONE
BEGIN:VEVENT
DTSTAMP:20260421T135212
DTSTART;VALUE=DATE:20190630
DTEND;VALUE=DATE:20190630
UID:389@s523181454.online.de/ical
CLASS:PUBLIC
SUMMARY:Automobilslalom mit Gleichmäßigkeits Prüfung
DESCRIPTION:Automobilslalom mit Gleichmäßigkeits Prüfung\n
CONTACT:NAC Nittenau e.V. 	\, Frank Duscher \, Am Hammersee 39\, \, 92439  Bodenwöhr\, 0934/2787 \, Fax 0934/9014260
CATEGORIES:Slalom,Slalom
END:VEVENT
END:VCALENDAR