BEGIN:VCALENDAR
VERSION:2.0
METHOD:PUBLISH
PRODID:-//Event-List//NONSGML Event-List 4.6.2//DE
X-WR-TIMEZONE:Europe/Berlin
CALSCALE:GREGORIAN
BEGIN:VTIMEZONE
TZID:Europe/Berlin
BEGIN:DAYLIGHT
TZOFFSETFROM:+0100
TZOFFSETTO:+0200
DTSTART:19810329T020000
RRULE:FREQ=YEARLY;BYMONTH=3;BYDAY=-1SU
TZNAME:CEST
END:DAYLIGHT
BEGIN:STANDARD
TZOFFSETFROM:+0200
TZOFFSETTO:+0100
DTSTART:19961027T030000
RRULE:FREQ=YEARLY;BYMONTH=10;BYDAY=-1SU
TZNAME:CET
END:STANDARD
END:VTIMEZONE
BEGIN:VEVENT
DTSTAMP:20260421T122654
DTSTART;VALUE=DATE:20190609
DTEND;VALUE=DATE:20190609
UID:381@s523181454.online.de/ical
CLASS:PUBLIC
SUMMARY:SM Automobilslalom
DESCRIPTION:Der 5. Lauf zur Deutschen Amateur Slalommeisterschaft des NAVC
CONTACT:Car Club Jülich e.V. \, Theo Klöckner \, Lövenricherstr. 19\, \, 52441  Linnich\, 02045/959644
LOCATION:Verkehrsübungsanlage Kaiserkuhle\, Spitze Warte 22\, 59602 Rüthen
CATEGORIES:Slalom
END:VEVENT
END:VCALENDAR