BEGIN:VCALENDAR
VERSION:2.0
METHOD:PUBLISH
PRODID:-//Event-List//NONSGML Event-List 4.6.2//DE
X-WR-TIMEZONE:Europe/Berlin
CALSCALE:GREGORIAN
BEGIN:VTIMEZONE
TZID:Europe/Berlin
BEGIN:DAYLIGHT
TZOFFSETFROM:+0100
TZOFFSETTO:+0200
DTSTART:19810329T020000
RRULE:FREQ=YEARLY;BYMONTH=3;BYDAY=-1SU
TZNAME:CEST
END:DAYLIGHT
BEGIN:STANDARD
TZOFFSETFROM:+0200
TZOFFSETTO:+0100
DTSTART:19961027T030000
RRULE:FREQ=YEARLY;BYMONTH=10;BYDAY=-1SU
TZNAME:CET
END:STANDARD
END:VTIMEZONE
BEGIN:VEVENT
DTSTAMP:20260421T122655
DTSTART;VALUE=DATE:20190602
DTEND;VALUE=DATE:20190602
UID:378@s523181454.online.de/ical
CLASS:PUBLIC
SUMMARY:Automobilslalom mit GP
DESCRIPTION:Automobilslalom
CONTACT:AC Gunzenhausen e.V.\, Christian Funk\, Schäfgasse 3\, 91747 Westheim / Ot Ostheim\, 0172-9566018
LOCATION:O-Ring\, Aha 200\, 91710  Gunzenhausen
CATEGORIES:Slalom
END:VEVENT
END:VCALENDAR