BEGIN:VCALENDAR
VERSION:2.0
METHOD:PUBLISH
PRODID:-//Event-List//NONSGML Event-List 4.6.2//DE
X-WR-TIMEZONE:Europe/Berlin
CALSCALE:GREGORIAN
BEGIN:VTIMEZONE
TZID:Europe/Berlin
BEGIN:DAYLIGHT
TZOFFSETFROM:+0100
TZOFFSETTO:+0200
DTSTART:19810329T020000
RRULE:FREQ=YEARLY;BYMONTH=3;BYDAY=-1SU
TZNAME:CEST
END:DAYLIGHT
BEGIN:STANDARD
TZOFFSETFROM:+0200
TZOFFSETTO:+0100
DTSTART:19961027T030000
RRULE:FREQ=YEARLY;BYMONTH=10;BYDAY=-1SU
TZNAME:CET
END:STANDARD
END:VTIMEZONE
BEGIN:VEVENT
DTSTAMP:20260423T163030
DTSTART;VALUE=DATE:20190519
DTEND;VALUE=DATE:20190519
UID:371@s523181454.online.de/ical
CLASS:PUBLIC
SUMMARY:4."MHEL-Massivhaus" Automobilslalom 
DESCRIPTION:Der 4. NAVC "MHEL-Massivhaus", der 2. Lauf zur NAVC
  Slalommeisterschaft
CONTACT:MC Lützkendorf e.V.\, Uwe Eldau\, Pfeifersgarten 8\, 06249  Mücheln\, Fax 034632 90038
LOCATION:Industrie und Gewerbepark (ehemals Addinol Mineralölwerk)\, 06242 Krumpa 
CATEGORIES:Slalom,Slalom
END:VEVENT
END:VCALENDAR