BEGIN:VCALENDAR
VERSION:2.0
METHOD:PUBLISH
PRODID:-//Event-List//NONSGML Event-List 4.6.2//DE
X-WR-TIMEZONE:Europe/Berlin
CALSCALE:GREGORIAN
BEGIN:VTIMEZONE
TZID:Europe/Berlin
BEGIN:DAYLIGHT
TZOFFSETFROM:+0100
TZOFFSETTO:+0200
DTSTART:19810329T020000
RRULE:FREQ=YEARLY;BYMONTH=3;BYDAY=-1SU
TZNAME:CEST
END:DAYLIGHT
BEGIN:STANDARD
TZOFFSETFROM:+0200
TZOFFSETTO:+0100
DTSTART:19961027T030000
RRULE:FREQ=YEARLY;BYMONTH=10;BYDAY=-1SU
TZNAME:CET
END:STANDARD
END:VTIMEZONE
BEGIN:VEVENT
DTSTAMP:20260421T122655
DTSTART;VALUE=DATE:20190512
DTEND;VALUE=DATE:20190512
UID:370@s523181454.online.de/ical
CLASS:PUBLIC
SUMMARY:Bergprüfung Bockenau
DESCRIPTION:2. Bergrennen Bockenauer Schweiz
CONTACT:LV Mosel-Hunsrück-Nahe\, Georg Baer   \, Kirchstr.6\, 55471  Tiefenbach	\, 06761/7016
LOCATION:K21 Bockenau nach Steinhardt\, 55595 Bockenau
CATEGORIES:Bergslalom,Bergslalom
END:VEVENT
END:VCALENDAR