BEGIN:VCALENDAR
VERSION:2.0
METHOD:PUBLISH
PRODID:-//Event-List//NONSGML Event-List 4.6.2//DE
X-WR-TIMEZONE:Europe/Berlin
CALSCALE:GREGORIAN
BEGIN:VTIMEZONE
TZID:Europe/Berlin
BEGIN:DAYLIGHT
TZOFFSETFROM:+0100
TZOFFSETTO:+0200
DTSTART:19810329T020000
RRULE:FREQ=YEARLY;BYMONTH=3;BYDAY=-1SU
TZNAME:CEST
END:DAYLIGHT
BEGIN:STANDARD
TZOFFSETFROM:+0200
TZOFFSETTO:+0100
DTSTART:19961027T030000
RRULE:FREQ=YEARLY;BYMONTH=10;BYDAY=-1SU
TZNAME:CET
END:STANDARD
END:VTIMEZONE
BEGIN:VEVENT
DTSTAMP:20260421T122654
DTSTART;VALUE=DATE:20190505
DTEND;VALUE=DATE:20190505
UID:368@s523181454.online.de/ical
CLASS:PUBLIC
SUMMARY:3. Mossandl-Schotterslalom
DESCRIPTION:Es ist wieder soweit… der MSC Mamming veranstaltet den dritten
  Schotter-Slalom im Kieswerk Mossandl. 
CONTACT:MSC Mamming e.V.\, Roland Kroiß \, Deggendorferstr. 37 \, 94437  Mamming\, 09955/1625 \, Fax 09955/904220
LOCATION:Mossandl Kieswerk\, Werkstraße 9\, 94437  Mamming
CATEGORIES:Slalom,Auto-Cross
END:VEVENT
END:VCALENDAR