BEGIN:VCALENDAR
VERSION:2.0
METHOD:PUBLISH
PRODID:-//Event-List//NONSGML Event-List 4.6.2//DE
X-WR-TIMEZONE:Europe/Berlin
CALSCALE:GREGORIAN
BEGIN:VTIMEZONE
TZID:Europe/Berlin
BEGIN:DAYLIGHT
TZOFFSETFROM:+0100
TZOFFSETTO:+0200
DTSTART:19810329T020000
RRULE:FREQ=YEARLY;BYMONTH=3;BYDAY=-1SU
TZNAME:CEST
END:DAYLIGHT
BEGIN:STANDARD
TZOFFSETFROM:+0200
TZOFFSETTO:+0100
DTSTART:19961027T030000
RRULE:FREQ=YEARLY;BYMONTH=10;BYDAY=-1SU
TZNAME:CET
END:STANDARD
END:VTIMEZONE
BEGIN:VEVENT
DTSTAMP:20260421T135213
DTSTART;VALUE=DATE:20190505
DTEND;VALUE=DATE:20190505
UID:367@s523181454.online.de/ical
CLASS:PUBLIC
SUMMARY:Geschicklichkeitsturnier
DESCRIPTION:Geschicklichkeitsturnier\n
CONTACT:ASC Sulzbach-Rosenberg e.V. 	\, Wilh.-Busch-Str. 21\, \, 92237  Sulzbach-Rosenberg  \, 09661/2547
LOCATION:Parkplatz des ehemaligen Edeka-Marktes\, Sulzbacher Straße 6\, 92237  Sulzbach-Rosenberg
CATEGORIES:Turnier
END:VEVENT
END:VCALENDAR