BEGIN:VCALENDAR
VERSION:2.0
METHOD:PUBLISH
PRODID:-//Event-List//NONSGML Event-List 4.6.2//DE
X-WR-TIMEZONE:Europe/Berlin
CALSCALE:GREGORIAN
BEGIN:VTIMEZONE
TZID:Europe/Berlin
BEGIN:DAYLIGHT
TZOFFSETFROM:+0100
TZOFFSETTO:+0200
DTSTART:19810329T020000
RRULE:FREQ=YEARLY;BYMONTH=3;BYDAY=-1SU
TZNAME:CEST
END:DAYLIGHT
BEGIN:STANDARD
TZOFFSETFROM:+0200
TZOFFSETTO:+0100
DTSTART:19961027T030000
RRULE:FREQ=YEARLY;BYMONTH=10;BYDAY=-1SU
TZNAME:CET
END:STANDARD
END:VTIMEZONE
BEGIN:VEVENT
DTSTAMP:20260423T130857
DTSTART:20190308T070000
DTEND;VALUE=DATE:20190309
UID:354@s523181454.online.de/ical
CLASS:PUBLIC
SUMMARY:RM Rallye MSC Zorn  
DESCRIPTION:Der erste Lauf zur Deutschen Amateur Rallyemeisterschaft.\n\n\n
CONTACT:MSC Zorn e.V.\, Rheinstr\, 8\, 56537 Ruppertshofen\,\, 0176-43992667
LOCATION:Bürgerhaus Miehlen\, 56357  Miehlen 
CATEGORIES:Rallye,Rallye
END:VEVENT
END:VCALENDAR