BEGIN:VCALENDAR
VERSION:2.0
METHOD:PUBLISH
PRODID:-//Event-List//NONSGML Event-List 4.6.2//DE
X-WR-TIMEZONE:Europe/Berlin
CALSCALE:GREGORIAN
BEGIN:VTIMEZONE
TZID:Europe/Berlin
BEGIN:DAYLIGHT
TZOFFSETFROM:+0100
TZOFFSETTO:+0200
DTSTART:19810329T020000
RRULE:FREQ=YEARLY;BYMONTH=3;BYDAY=-1SU
TZNAME:CEST
END:DAYLIGHT
BEGIN:STANDARD
TZOFFSETFROM:+0200
TZOFFSETTO:+0100
DTSTART:19961027T030000
RRULE:FREQ=YEARLY;BYMONTH=10;BYDAY=-1SU
TZNAME:CET
END:STANDARD
END:VTIMEZONE
BEGIN:VEVENT
DTSTAMP:20260421T183547
DTSTART;VALUE=DATE:20180825
DTEND;VALUE=DATE:20180825
UID:328@s523181454.online.de/ical
CLASS:PUBLIC
SUMMARY:AM Orientierungsfahrt "Rund um die Rehburger Berge"
DESCRIPTION:Orientireungsfahrt\n
CONTACT:MSC Rehburg e.V.\, Matthias Bleeke \, Große Bleiche 31\, 31515  Wunstorf
LOCATION:Dreschhof Brokeloh\, Brokeloher Dorfstraße 23\, 31628  Landesbergen - OT Brokeloh
CATEGORIES:Orientierungsfahrt
END:VEVENT
END:VCALENDAR