BEGIN:VCALENDAR
VERSION:2.0
METHOD:PUBLISH
PRODID:-//Event-List//NONSGML Event-List 4.6.2//DE
X-WR-TIMEZONE:Europe/Berlin
CALSCALE:GREGORIAN
BEGIN:VTIMEZONE
TZID:Europe/Berlin
BEGIN:DAYLIGHT
TZOFFSETFROM:+0100
TZOFFSETTO:+0200
DTSTART:19810329T020000
RRULE:FREQ=YEARLY;BYMONTH=3;BYDAY=-1SU
TZNAME:CEST
END:DAYLIGHT
BEGIN:STANDARD
TZOFFSETFROM:+0200
TZOFFSETTO:+0100
DTSTART:19961027T030000
RRULE:FREQ=YEARLY;BYMONTH=10;BYDAY=-1SU
TZNAME:CET
END:STANDARD
END:VTIMEZONE
BEGIN:VEVENT
DTSTAMP:20260423T160052
DTSTART;VALUE=DATE:20180715
DTEND;VALUE=DATE:20180715
UID:310@s523181454.online.de/ical
CLASS:PUBLIC
SUMMARY:Cross-Slalom
DESCRIPTION:18. ASC Jugend-Cross-Kart und 33. Auto-Cross-Slalom\n
CONTACT:ASC Sulzbach-Rosenberg e.V. 	\, Wilh.-Busch-Str. 21\, \, 92237  Sulzbach-Rosenberg  \, 09661/2547
CATEGORIES:Auto-Cross,Kartslalom
END:VEVENT
END:VCALENDAR