BEGIN:VCALENDAR
VERSION:2.0
METHOD:PUBLISH
PRODID:-//Event-List//NONSGML Event-List 4.6.2//DE
X-WR-TIMEZONE:Europe/Berlin
CALSCALE:GREGORIAN
BEGIN:VTIMEZONE
TZID:Europe/Berlin
BEGIN:DAYLIGHT
TZOFFSETFROM:+0100
TZOFFSETTO:+0200
DTSTART:19810329T020000
RRULE:FREQ=YEARLY;BYMONTH=3;BYDAY=-1SU
TZNAME:CEST
END:DAYLIGHT
BEGIN:STANDARD
TZOFFSETFROM:+0200
TZOFFSETTO:+0100
DTSTART:19961027T030000
RRULE:FREQ=YEARLY;BYMONTH=10;BYDAY=-1SU
TZNAME:CET
END:STANDARD
END:VTIMEZONE
BEGIN:VEVENT
DTSTAMP:20260422T142925
DTSTART;VALUE=DATE:20180603
DTEND;VALUE=DATE:20180603
UID:291@s523181454.online.de/ical
CLASS:PUBLIC
SUMMARY:Veteranenfahrt
DESCRIPTION:21. Wasgau Classic in Ruppertsweiler
CONTACT:MSC Wasgau\, Brigitte Koresch-Stephan\, Bernhardstraße 1\, 66981  Münchweiler\, 06395/8439\, Fax 06395/209192
LOCATION:Ruppertshalle\, 66957  Ruppertsweiler
CATEGORIES:Oldtimer
END:VEVENT
END:VCALENDAR