BEGIN:VCALENDAR
VERSION:2.0
METHOD:PUBLISH
PRODID:-//Event-List//NONSGML Event-List 4.6.2//DE
X-WR-TIMEZONE:Europe/Berlin
CALSCALE:GREGORIAN
BEGIN:VTIMEZONE
TZID:Europe/Berlin
BEGIN:DAYLIGHT
TZOFFSETFROM:+0100
TZOFFSETTO:+0200
DTSTART:19810329T020000
RRULE:FREQ=YEARLY;BYMONTH=3;BYDAY=-1SU
TZNAME:CEST
END:DAYLIGHT
BEGIN:STANDARD
TZOFFSETFROM:+0200
TZOFFSETTO:+0100
DTSTART:19961027T030000
RRULE:FREQ=YEARLY;BYMONTH=10;BYDAY=-1SU
TZNAME:CET
END:STANDARD
END:VTIMEZONE
BEGIN:VEVENT
DTSTAMP:20260422T142925
DTSTART;VALUE=DATE:20180603
DTEND;VALUE=DATE:20180603
UID:289@s523181454.online.de/ical
CLASS:PUBLIC
SUMMARY:SM Automobilslalom
DESCRIPTION:Der 5. Lauf zur Slalommeisterschaft des NAVC
CONTACT:RST Mittelfranken im NAVC 	\, Hans-Böckler-Str. 47\,  \, 91257 Pegnitz
LOCATION:Rosenthal-Field Plössen \, Manfred-Strößenreuther-Straße 21\, \, 95469 Speichersdorf
CATEGORIES:Slalom
END:VEVENT
END:VCALENDAR