BEGIN:VCALENDAR
VERSION:2.0
METHOD:PUBLISH
PRODID:-//Event-List//NONSGML Event-List 4.6.2//DE
X-WR-TIMEZONE:Europe/Berlin
CALSCALE:GREGORIAN
BEGIN:VTIMEZONE
TZID:Europe/Berlin
BEGIN:DAYLIGHT
TZOFFSETFROM:+0100
TZOFFSETTO:+0200
DTSTART:19810329T020000
RRULE:FREQ=YEARLY;BYMONTH=3;BYDAY=-1SU
TZNAME:CEST
END:DAYLIGHT
BEGIN:STANDARD
TZOFFSETFROM:+0200
TZOFFSETTO:+0100
DTSTART:19961027T030000
RRULE:FREQ=YEARLY;BYMONTH=10;BYDAY=-1SU
TZNAME:CET
END:STANDARD
END:VTIMEZONE
BEGIN:VEVENT
DTSTAMP:20260421T183546
DTSTART;VALUE=DATE:20180421
DTEND;VALUE=DATE:20180421
UID:279@s523181454.online.de/ical
CLASS:PUBLIC
SUMMARY:NAVC Kongress
DESCRIPTION:Der jährliche NAVC Kongreß, diesmal im Hotel Daub
  Bremervörde.
CONTACT:Deutscher NAVC Clubverwaltung / LV Hessen\, Joseph Limmer \, Johannesbrunner Str. 6 \, 84175 Gerzen\, 08744/8678\, Fax 087444/9679886 
LOCATION:Landgasthof zum Stern\, Biebergasse 2\, \, 36088  Hünfeld
CATEGORIES:Kongreß/Tagung
END:VEVENT
END:VCALENDAR