BEGIN:VCALENDAR
VERSION:2.0
METHOD:PUBLISH
PRODID:-//Event-List//NONSGML Event-List 4.6.2//DE
X-WR-TIMEZONE:Europe/Berlin
CALSCALE:GREGORIAN
BEGIN:VTIMEZONE
TZID:Europe/Berlin
BEGIN:DAYLIGHT
TZOFFSETFROM:+0100
TZOFFSETTO:+0200
DTSTART:19810329T020000
RRULE:FREQ=YEARLY;BYMONTH=3;BYDAY=-1SU
TZNAME:CEST
END:DAYLIGHT
BEGIN:STANDARD
TZOFFSETFROM:+0200
TZOFFSETTO:+0100
DTSTART:19961027T030000
RRULE:FREQ=YEARLY;BYMONTH=10;BYDAY=-1SU
TZNAME:CET
END:STANDARD
END:VTIMEZONE
BEGIN:VEVENT
DTSTAMP:20260423T144340
DTSTART;VALUE=DATE:20180408
DTEND;VALUE=DATE:20180408
UID:274@s523181454.online.de/ical
CLASS:PUBLIC
SUMMARY:Geschicklichkeitsturnier 
DESCRIPTION:Geschicklichkeitsturnier 
CONTACT:MSC Altmühltal \, Hardtstr. 7\, \, 91589 Aurach-Weinberg\, 09804/209 0175/5059820
LOCATION:Betriebsgelände der Fa. Hecht International \, Im Herrmannshof 10 \, 91595  Burgoberbach
END:VEVENT
END:VCALENDAR