BEGIN:VCALENDAR
VERSION:2.0
METHOD:PUBLISH
PRODID:-//Event-List//NONSGML Event-List 4.6.2//DE
X-WR-TIMEZONE:Europe/Berlin
CALSCALE:GREGORIAN
BEGIN:VTIMEZONE
TZID:Europe/Berlin
BEGIN:DAYLIGHT
TZOFFSETFROM:+0100
TZOFFSETTO:+0200
DTSTART:19810329T020000
RRULE:FREQ=YEARLY;BYMONTH=3;BYDAY=-1SU
TZNAME:CEST
END:DAYLIGHT
BEGIN:STANDARD
TZOFFSETFROM:+0200
TZOFFSETTO:+0100
DTSTART:19961027T030000
RRULE:FREQ=YEARLY;BYMONTH=10;BYDAY=-1SU
TZNAME:CET
END:STANDARD
END:VTIMEZONE
BEGIN:VEVENT
DTSTAMP:20260422T141231
DTSTART;VALUE=DATE:20180407
DTEND;VALUE=DATE:20180407
UID:273@s523181454.online.de/ical
CLASS:PUBLIC
SUMMARY:AM Orientierungsfahrt Zweitausend + 18 Tücken
DESCRIPTION:Orientierungsfahrt
CONTACT:ARGE Ostsee-Rallye e.V. im NAVC\, Jürgen Brennecke\, Müllerstrasse 2 \, 13585 Berlin\, 03033506983 
LOCATION: Oranjehus - Pension & Restaurant \, Clara-Zetkin-Straße 31\, \, 16515 Oranienburg
CATEGORIES:Orientierungsfahrt
END:VEVENT
END:VCALENDAR