BEGIN:VCALENDAR
VERSION:2.0
METHOD:PUBLISH
PRODID:-//Event-List//NONSGML Event-List 4.6.2//DE
X-WR-TIMEZONE:Europe/Berlin
CALSCALE:GREGORIAN
BEGIN:VTIMEZONE
TZID:Europe/Berlin
BEGIN:DAYLIGHT
TZOFFSETFROM:+0100
TZOFFSETTO:+0200
DTSTART:19810329T020000
RRULE:FREQ=YEARLY;BYMONTH=3;BYDAY=-1SU
TZNAME:CEST
END:DAYLIGHT
BEGIN:STANDARD
TZOFFSETFROM:+0200
TZOFFSETTO:+0100
DTSTART:19961027T030000
RRULE:FREQ=YEARLY;BYMONTH=10;BYDAY=-1SU
TZNAME:CET
END:STANDARD
END:VTIMEZONE
BEGIN:VEVENT
DTSTAMP:20260422T174207
DTSTART;VALUE=DATE:20170617
DTEND;VALUE=DATE:20170617
UID:215@s523181454.online.de/ical
CLASS:PUBLIC
SUMMARY:Jugendcrosskart-Slalom
DESCRIPTION:Jugendcrosskart-Slalom
CONTACT:ACC Kirchwistedt e.V. 	\, Bergstr. 15\, \, 27616 	 Kirchwistedt \, 04747/872103
CATEGORIES:Kartslalom
END:VEVENT
END:VCALENDAR