BEGIN:VCALENDAR
VERSION:2.0
METHOD:PUBLISH
PRODID:-//Event-List//NONSGML Event-List 4.6.2//DE
X-WR-TIMEZONE:Europe/Berlin
CALSCALE:GREGORIAN
BEGIN:VTIMEZONE
TZID:Europe/Berlin
BEGIN:DAYLIGHT
TZOFFSETFROM:+0100
TZOFFSETTO:+0200
DTSTART:19810329T020000
RRULE:FREQ=YEARLY;BYMONTH=3;BYDAY=-1SU
TZNAME:CEST
END:DAYLIGHT
BEGIN:STANDARD
TZOFFSETFROM:+0200
TZOFFSETTO:+0100
DTSTART:19961027T030000
RRULE:FREQ=YEARLY;BYMONTH=10;BYDAY=-1SU
TZNAME:CET
END:STANDARD
END:VTIMEZONE
BEGIN:VEVENT
DTSTAMP:20260423T013649
DTSTART;VALUE=DATE:20150221
DTEND;VALUE=DATE:20150221
UID:2@s523181454.online.de/ical
CLASS:PUBLIC
SUMMARY:AM Orientierungsfahrt "Mittelsaar-Ori" 
DESCRIPTION:Der Auftakt zur Deutschen Amateur Automobilmeisterschaft des Deutschen NAVC
  \nErgebnisliste 
CONTACT:MSC Mittelsaar e.V.\, Ralf Schackmann\, Vor dem Kreuz 25\, 66773  Schwalbach\, 06834/56184
LOCATION:66773  Schwalbach
CATEGORIES:Orientierungsfahrt
END:VEVENT
END:VCALENDAR