BEGIN:VCALENDAR
VERSION:2.0
METHOD:PUBLISH
PRODID:-//Event-List//NONSGML Event-List 4.6.2//DE
X-WR-TIMEZONE:Europe/Berlin
CALSCALE:GREGORIAN
BEGIN:VTIMEZONE
TZID:Europe/Berlin
BEGIN:DAYLIGHT
TZOFFSETFROM:+0100
TZOFFSETTO:+0200
DTSTART:19810329T020000
RRULE:FREQ=YEARLY;BYMONTH=3;BYDAY=-1SU
TZNAME:CEST
END:DAYLIGHT
BEGIN:STANDARD
TZOFFSETFROM:+0200
TZOFFSETTO:+0100
DTSTART:19961027T030000
RRULE:FREQ=YEARLY;BYMONTH=10;BYDAY=-1SU
TZNAME:CET
END:STANDARD
END:VTIMEZONE
BEGIN:VEVENT
DTSTAMP:20260424T140544
DTSTART:20160529T080000
DTEND:20160529T080000
UID:187@s523181454.online.de/ical
CLASS:PUBLIC
SUMMARY:Kartslalom (DV)
DESCRIPTION:Der  Motor Sport Club Mamming e.V. veranstaltet am 29. Mai 2016 \nden 40.
  und 41. Kart-Slalom.\nEs erfolgt eine Wertung zur LV-Südbayern, Bayer.
  KSM, \nNAVC Sportabzeichen\n
CONTACT:MSC Mamming\, info@msc-mamming.de\, 0151 / 44 50 53 98
LOCATION:Firmengelände Voith\, Deggendorfer Str. 40\, 94437 Mammingerschwaige
CATEGORIES:Kartslalom,Kartslalom
END:VEVENT
END:VCALENDAR