BEGIN:VCALENDAR
VERSION:2.0
METHOD:PUBLISH
PRODID:-//Event-List//NONSGML Event-List 4.6.2//DE
X-WR-TIMEZONE:Europe/Berlin
CALSCALE:GREGORIAN
BEGIN:VTIMEZONE
TZID:Europe/Berlin
BEGIN:DAYLIGHT
TZOFFSETFROM:+0100
TZOFFSETTO:+0200
DTSTART:19810329T020000
RRULE:FREQ=YEARLY;BYMONTH=3;BYDAY=-1SU
TZNAME:CEST
END:DAYLIGHT
BEGIN:STANDARD
TZOFFSETFROM:+0200
TZOFFSETTO:+0100
DTSTART:19961027T030000
RRULE:FREQ=YEARLY;BYMONTH=10;BYDAY=-1SU
TZNAME:CET
END:STANDARD
END:VTIMEZONE
BEGIN:VEVENT
DTSTAMP:20260422T191909
DTSTART;VALUE=DATE:20160828
DTEND;VALUE=DATE:20160828
UID:161@s523181454.online.de/ical
CLASS:PUBLIC
SUMMARY:2. NAVC Geiseltalslalom
DESCRIPTION:Der 2. NAVC Geiseltalslalom, der 9. Lauf zur NAVC
  Slalommeisterschaft\nErgebnisliste 
CONTACT:MC Lützkendorf e.V.\, Uwe Eldau\, Pfeifersgarten 8\, 06249  Mücheln\, Fax 034632 90038
LOCATION:Industrie- und Gewerbepark Geiseltalsee\, 06242 Braunsbedra 
CATEGORIES:Slalom,Slalom
END:VEVENT
END:VCALENDAR